BEGIN:VCALENDAR
VERSION:2.0
PRODID:-//CFA Society Sri Lanka - ECPv6.15.20//NONSGML v1.0//EN
CALSCALE:GREGORIAN
METHOD:PUBLISH
X-WR-CALNAME:CFA Society Sri Lanka
X-ORIGINAL-URL:https://cfasocietysrilanka.org
X-WR-CALDESC:Events for CFA Society Sri Lanka
REFRESH-INTERVAL;VALUE=DURATION:PT1H
X-Robots-Tag:noindex
X-PUBLISHED-TTL:PT1H
BEGIN:VTIMEZONE
TZID:Asia/Kolkata
BEGIN:STANDARD
TZOFFSETFROM:+0530
TZOFFSETTO:+0530
TZNAME:IST
DTSTART:20230101T000000
END:STANDARD
END:VTIMEZONE
BEGIN:VEVENT
DTSTART;TZID=Asia/Kolkata:20240910T150000
DTEND;TZID=Asia/Kolkata:20240910T160000
DTSTAMP:20260424T024623
CREATED:20240902T040328Z
LAST-MODIFIED:20240902T040723Z
UID:2706-1725980400-1725984000@cfasocietysrilanka.org
SUMMARY:Navigating Global Uncertainty:  A US-Sri Lanka Perspective
DESCRIPTION:We are pleased to inform your organization on our upcoming session\, “Webinar on Navigating Global Uncertainty:  A US-Sri Lanka Perspective” in collaboration with CFA Society Hongkong. Join this timely and insightful webinar exploring the current global economic landscape and its implications for the US\, Sri Lanka\, and the world. \nFor registration and more details\, please visit – Click here \nWe look forward to your participation in what promises to be an engaging and thought-provoking event.
URL:https://cfasocietysrilanka.org/event/navigating-global-uncertainty-a-us-sri-lanka-perspective/
LOCATION:Online
CATEGORIES:CFA
ATTACH;FMTTYPE=image/jpeg:https://cfasocietysrilanka.org/wp-content/uploads/2024/09/social-media-240910-1.jpg
END:VEVENT
END:VCALENDAR